BEGIN:VCALENDAR
VERSION:2.0
PRODID:-//Kalender//
BEGIN:VEVENT
SUMMARY:KI-Webinar für das Ofenbauerhandwerk
DTSTART:20260424T090000Z
DTEND:20260424T103000Z
DTSTAMP:20260421T114336Z
UID:event_ical_eventmanagement_2293
DESCRIPTION:Künstliche Intelligenz ist längst kein Zukunftsthema mehr 
 – sie ist im betrieblichen Alltag angekommen. Insbesondere generative KI
 -Systeme wie ChatGPT eröffnen neue Möglichkeiten für Organisation\, Kom
 munikation\, Kundenservice und interne Prozesse im SHK-Handwerk. Doch wie 
 funktioniert diese Technologie eigentlich? Wie kann sie sicher und verantw
 ortungsvoll im Betrieb eingesetzt werden? Und wie lassen sich sogar eigene
  KI-Anwendungen für das eigene Unternehmen entwickeln?  Zu diesen Fragen
  laden wir Sie herzlich zu unserem Webinar ein:  „Sicher arbeiten mit C
 hatGPT“  Inhalte des Webinars: Was ist generative KI? – Grundlagen un
 d Einordnung Einführung in die praktische Arbeit mit ChatGPT Effiziente A
 nwendung im Ofen- und Luftheizungsbau Eigene KI-Anwendungen (GPTs) mit Cha
 tGPT entwickeln Abgrenzung zu anderen KI-Anbietern und Systemen Datenschut
 z\, Sicherheit und verantwortungsvoller Einsatz Kreatives Arbeiten mit KI-
 Tools   Das Webinar richtet sich speziell an Betriebe des Ofen- und Lufth
 eizungsbauerhandwerks und zeigt praxisnah\, wie KI sinnvoll\, sicher und g
 ewinnbringend eingesetzt werden kann – ohne technisches Vorwissen voraus
 zusetzen.  Nutzen Sie die Gelegenheit\, sich frühzeitig fundiertes Wisse
 n anzueignen und Ihr Unternehmen zukunftssicher aufzustellen. Die Zugangsd
 aten erhalten Sie zwei Tage vor Webinarbeginn.  Referent: Kay Wittig Wir 
 freuen uns auf Ihre Teilnahme!
END:VEVENT
END:VCALENDAR
