BEGIN:VCALENDAR
VERSION:2.0
PRODID:-//Kalender//
BEGIN:VEVENT
SUMMARY:Sachkundelehrgang TRGS 519-Anlage 4 C-Kleiner Asbestschein
DTSTART:20261116T070000Z
DTEND:20261117T161500Z
DTSTAMP:20260420T102328Z
UID:event_ical_eventmanagement_2251
DESCRIPTION:Sehr geehrte Damen und Herren\, wir laden Sie herzlich zu unse
 rem Sachkundelehrgang  TRGS 519-Anlage 4C (Kleiner Asbestschein) am 16 . 
 und 17. November 2026 in Roggentin   ein. Im Rahmen der Novellierung der 
 Gefahrstoffverordnung sind die Anforderungen an den Umgang mit asbesthalti
 gen Materialien weiter verschärft worden. Gemäß TRGS 519 (Technische Re
 geln für Gefahrstoffe) ist es zwingend erforderlich\, dass Abbruch-\, San
 ierungs- oder Instandhaltungsarbeiten (ASI-Arbeiten) an fest gebundenen As
 bestprodukten oder ASI-Arbeiten geringen Umfangs von mindestens einem Sach
 kundigen geleitet und beaufsichtigt werden. Mit diesem zweitägigen Lehrga
 ng haben Sie die Möglichkeit\, die erforderliche Sachkunde gemäß TRGS 5
 19- Anlage 4C zu erwerben. Diese Qualifikation ist unerlässlich\, um den 
 gesetzlichen Anforderungen gerecht zu werden und einen sicheren Umgang mit
  asbesthaltigen Materialien zu gewährleisten. Wir freuen uns auf Ihre Tei
 lnahme! Seminarinhalte: Einführung in die Asbestsanierung Entsorgung von 
 Asbestabfällen Verwendung von Asbest\, Abgrenzung von fest gebundenen und
  schwach gebundenen Asbest- produkten\, Erkennen von Asbest\, Entnahme von
  Materialproben\, Analyse von Materialproben\, Abgrenzung der unterschiedl
 ichen Asbestarbeiten Industriesauger (Handhabung\, Prüfung\, Wartung)  P
 ersönliche Schutzausrüstung Gesundheitsgefahren durch Asbest\, Berufskra
 nkheiten\,arbeitsmedizinische Vorsorgeuntersuchungen Vorschriften und Rege
 lungen für Tätigkeiten mit Asbest\, TRGS 519 Sicherheitstechnische Maßn
 ahmen Vorschriften und Regelungen für Tätigkeiten mit Asbest\, bauordnun
 gsrechtliche Anforderungen Durchführung von Abbruch- Sanierungs- und Inst
 andhaltungsarbeiten: Baustelleneinrichtung/ Abschottungen/ Arbeitsgeräte
  Besondere Maßnahmen bei Arbeiten mit geringer Exposition gemäß BGI 664
  Am Ende des Lehrgangs wird eine schriftliche Abschlussprüfung durchgefü
 hrt. Veranstaltungsort: Informatik Center Roggentin Konrad-Zuse-Straße 1 
 A 18184 Roggentin Am 16. November endet die Schulung um 17:15 Uhr\, am 17.
  November um 15:45 Uhr.
LOCATION:ICR Informatik Center Roggentin\, Konrad-Zuse-Straße 1 A\, 18184
  Roggentin\, -
END:VEVENT
END:VCALENDAR
