BEGIN:VCALENDAR
VERSION:2.0
PRODID:-//Kalender//
BEGIN:VEVENT
SUMMARY:Fachkunde für Arbeiten an Anlagen mit brennbaren Kältemittel
DTSTART:20261012T070000Z
DTEND:20261013T150000Z
DTSTAMP:20260420T085333Z
UID:event_ical_eventmanagement_2191
DESCRIPTION:Die neue F-Gase-Verordnung VO 2024/753 verfolgt das Ziel\, die
  Menge der in Verkehr gebrachten fluorierten Treibhausgase in beschleunigt
 er Form durch Verbote und Beschränkungen zu reduzieren. Dies führt zu de
 m vermehrten Einsatz von natürlichen brennbaren Kältemitteln (wie z.B. P
 ropan) in Klimaanlagen und Wärmepumpen. Vor diesem Hintergrund und aufbau
 end zu der Sachkunde gemäß §5 Chemikalien-Klimaschutzverordnung (Kälte
 schein 1 oder 2)\, werden in diesem Seminar in Theorie und Praxis\, die er
 forderlichen Kenntnisse und Fertigkeiten nach DVO 2024/2215 im Umgang mit 
 Kohlenwasserstoffen bzw. Propan vermittelt. Insbesondere die Eigenschaften
  und der fachgerechte Umgang mit brennbaren Kältemittel der Sicherheitskl
 asse A2L / A2 / A3 für die Montage- und Instandhaltung von Wärmepumpen u
 nd Klimaanlagen werden behandelt. Schulungsinhalte: Theorie: ●    Gru
 ndlagen Explosionsschutz ●    wichtige gesetzliche Regelwerke und Nor
 men (z.B. GefStoffV und Sicherheitsbestimmungen) ●    Unterschiede be
 i Bauweise und Betrieb zu A1 Kältemitteln ●    Unterschiede der A2\,
  A2L und A3 Kältemittel ●    Was ist bei der Aufstellung zu beachten
  Praxis: ●   Lecksuche an Propananlagen ●   Absaugen bzw. Abfackel
 n von Propan ●   Inertisierung (mit Stickstoff) der Anlage inklusive F
 lammtest ●   Bestimmung der richtigen Füllmenge Teilnahme-Voraussetzu
 ngen: Sachkundiges Personal mit Zertifikat der Kat 1 oder Kat 2 gem. Veror
 dnung (EG) Nr. 303/2008 oder DVO 2015/2067 Die Sachkunde gemäß ChemKlima
 schutzV. ist in Kopie vorab nachzuweisen!! Abschluss: Der Lehrgang beinhal
 tet einen schriftlichen Abschlusstest.  Nach erfolgreicher Prüfung\, hat
  der Teilnehmer den Nachweis der Fachkunde im Umgang mit Kohlenwasserstoff
 en entsprechend der o.g. vermittelten Inhalte erbracht. Mit dem Erwerb der
  Sachkunde für natürlichen brennbare Kältemitteln und einem bestehenden
  Zertifikat der Kategorie I\, wird dem Teilnehmer die Sachkundebescheinigu
 ng für die Kategorie A1 nach DVO (EU) 2024/2215 ausgestellt.
LOCATION:ICR Informatik Center Roggentin\, Konrad-Zuse-Straße 1 A\, 18184
  Roggentin\, -
END:VEVENT
END:VCALENDAR
